BEGIN:VCALENDAR
VERSION:2.0
PRODID:SchoolNow
CALSCALE:GREGORIAN
BEGIN:VEVENT
UID:e097e170-6650-11f0-9935-0275e559ef9f
DTSTAMP:20250721T163639Z
SUMMARY:No school - Labor Day
URL;VALUE=URI:https://www.area30.k12.in.us/calendar/8434225/no-school-labor
 -day
DTSTART;VALUE=DATE:20250901
DTEND;VALUE=DATE:20250902
END:VEVENT
END:VCALENDAR
